BEGIN:VCALENDAR
VERSION:2.0
PRODID:-//hacksw/handcal//NONSGML v1.0//EN
BEGIN:VEVENT
UID:d57423ac5dd882969983a3f936cbe904
DTSTAMP:20260420T004246Z

DTSTART:20181027T220000
DTEND:20181027T220000
SUMMARY:Arina's leuke oldschool feest
DESCRIPTION:Ja hoor..Dit jaar gewoon nog een editie!\n\nOldschool en Early hardcore in de bovenzaal en beneden weer Hardcore beuken! dit alles weer met vinyl.\n\nGewoon zoals de naam al zegt een leuk feest,waar de gezelligheid en sfeer van vroeger weer beleefd wordt.\n\nLine up wordt later bekend gemaakt.

X-ALT-DESC;FMTTYPE=text/html:<!DOCTYPE HTML PUBLIC "-//W3C//DTD HTML 3.2//EN">\n<HTML>\n<HEAD>\n<META NAME="Generator" CONTENT="MS Exchange Server version 08.00.0681.000">\n<TITLE></TITLE>\n</HEAD>\n<BODY>\n<!-- Converted from text/rtf format -->\n\n<p><strong>Ja hoor..Dit jaar gewoon nog een editie!</strong></p><p><br />Oldschool en Early hardcore in de bovenzaal en beneden weer Hardcore beuken! dit alles weer met vinyl.</p><p>Gewoon zoals de naam al zegt een leuk feest,waar de gezelligheid en sfeer van vroeger weer beleefd wordt.</p><p>Line up wordt later bekend gemaakt.</p>\n\n</BODY>\n</HTML>

LOCATION:Arnhem, Nederland
END:VEVENT

END:VCALENDAR
