BEGIN:VCALENDAR
VERSION:2.0
PRODID:-//hacksw/handcal//NONSGML v1.0//EN
BEGIN:VEVENT
UID:da534b0e78fe4069a48d5278fcd39e3c
DTSTAMP:20260420T021408Z

DTSTART:20180429T143000
DTEND:20180429T143000
SUMMARY:Jong  Vitesse - Jong De Graafschap
DESCRIPTION:

X-ALT-DESC;FMTTYPE=text/html:<!DOCTYPE HTML PUBLIC "-//W3C//DTD HTML 3.2//EN">\n<HTML>\n<HEAD>\n<META NAME="Generator" CONTENT="MS Exchange Server version 08.00.0681.000">\n<TITLE></TITLE>\n</HEAD>\n<BODY>\n<!-- Converted from text/rtf format -->\n\n\n\n</BODY>\n</HTML>

LOCATION:Papendallaan 22, 6816 Arnhem, Nederland
END:VEVENT

END:VCALENDAR
