BEGIN:VCALENDAR
VERSION:2.0
PRODID:-//hacksw/handcal//NONSGML v1.0//EN
BEGIN:VEVENT
UID:61a0981bb354fdb7d2441cfeb60c0530
DTSTAMP:20260420T024547Z

DTSTART:20180802T200000
DTEND:20180802T200000
SUMMARY:Vitesse - FC Viitorul
DESCRIPTION:♥

X-ALT-DESC;FMTTYPE=text/html:<!DOCTYPE HTML PUBLIC "-//W3C//DTD HTML 3.2//EN">\n<HTML>\n<HEAD>\n<META NAME="Generator" CONTENT="MS Exchange Server version 08.00.0681.000">\n<TITLE></TITLE>\n</HEAD>\n<BODY>\n<!-- Converted from text/rtf format -->\n\n<p>♥</p>\n\n</BODY>\n</HTML>

LOCATION:Batavierenweg 25, 6841 HN Arnhem, Nederland
END:VEVENT

END:VCALENDAR
