BEGIN:VCALENDAR
VERSION:2.0
PRODID:-//hacksw/handcal//NONSGML v1.0//EN
BEGIN:VEVENT
UID:8e9219a2507a59b0030b7fcc1777d82f
DTSTAMP:20260420T021007Z

DTSTART:20180429T143000
DTEND:20180429T143000
SUMMARY:Vitesse - FC Twente (Uitzwaaidag)
DESCRIPTION:Vitesse programma/uitslagen\n\n \n\n\n\n\n\n \n\n\n\nZondag, 29. april\n\n14:30 – 16:30\n\n\n\n\n\n\n\n

X-ALT-DESC;FMTTYPE=text/html:<!DOCTYPE HTML PUBLIC "-//W3C//DTD HTML 3.2//EN">\n<HTML>\n<HEAD>\n<META NAME="Generator" CONTENT="MS Exchange Server version 08.00.0681.000">\n<TITLE></TITLE>\n</HEAD>\n<BODY>\n<!-- Converted from text/rtf format -->\n\n<p><a title="Vitesse programma/uitslagen" href="https://www.fcupdate.nl/voetbalclubs/25/vitesse/programma/" target="_blank" rel="noopener noreferrer">Vitesse programma/uitslagen</a></p><div class="Tnsqdc "> </div><div id="xDtlDlgCt" class="Mz3isd" tabindex="-1"><div class="kMp0We OcVpRe"><div class="nGJqzd OLw7vb"> </div><div id="xDetDlgWhen" class="NI2kfb "><div class="">Zondag, 29. april<div class="DN1TJ">14:30 – 16:30</div></div></div></div></div>\n\n</BODY>\n</HTML>

LOCATION:Batavierenweg 25, 6841 HN Arnhem, Nederland
END:VEVENT

END:VCALENDAR
